Workbook
Name PRZYCISK_ZAPISZ: #REF!

Sheet formularz
A3: XXXII Ogólnopolska Olimpiada Młodzieży
A4: w Sportach Letnich Lubelskie 2026
A6: Zgłoszenie ekipy wojewódzkiej
B9: Województwo
B10: Nazwa WISS | C10: =IF(ISBLANK(C9),"Wybierz województwo...",_xlfn.XLOOKUP(C9,dane!A:A,dane!B:B,"Wybierz województwo...")) -> Wybierz województwo...
B11: Sport
B15: Nazwisko | C15: Imię | D15: Płeć | E15: Nr. tel. kontaktowego
A20: L.p. | B20: Nazwisko | C20: Imię | D20: Płeć | E20: Rok ur. | F20: Klub sportowy (pełna nazwa zgodna ze statusem) | G20: Konkurencja | H20: Trener klubowy (nazwisko i imię)
A21: 1
A22: =A21+1 -> 2
A23: =A22+1 -> 3
A24: =A23+1 -> 4
A25: =A24+1 -> 5
A26: =A25+1 -> 6
A27: =A26+1 -> 7
A28: =A27+1 -> 8
A29: =A28+1 -> 9
A30: =A29+1 -> 10
A31: =A30+1 -> 11
A32: =A31+1 -> 12
A33: =A32+1 -> 13
... A70: =A69+1 -> 50
A73: L.p. | B73: Nazwisko | C73: Imię | D73: Płeć | E73: Funkcja | F73: Klub sportowy (pełna nazwa zgodna ze statusem)
A74: 1
A75: =A74+1 -> 2
A76: =A75+1 -> 3
A77: =A76+1 -> 4
A78: =A77+1 -> 5
A79: =A78+1 -> 6
A80: =A79+1 -> 7
A81: =A80+1 -> 8
A82: =A81+1 -> 9
A83: =A82+1 -> 10

Sheet meldunek
A1: Lista meldunkowa - pokwitowanie świadczeń
B3: Województwo | C3: =formularz!C9 -> 0
B4: Sport | C4: =formularz!C11 -> 0
B5: Miejsce | C5: =IF(ISBLANK(C4),"czekam na wybór...",_xlfn.XLOOKUP(C4,dane!E:E,dane!H:H,"czekam na wybór…")) -> czekam na wybór…
B6: Termin | C6: =IF(ISBLANK(C4),"czekam na wybór...",_xlfn.XLOOKUP(C4,dane!E:E,dane!I:I,"czekam na wybór…")) -> czekam na wybór…
B9: Nazwisko | C9: Imię | D9: Nr. tel. kontaktowego
A13: L.p. | B13: Nazwisko | C13: Imię | D13: Funkcja | E13: Klub Sportowy | F13: Czytelny podpis

Sheet dane
A1: Województwa | B1: Nazwa WISS | C1: Płeć | D1: Rok ur. | E1: Sport | G1: Sport | H1: Miejsce | I1: Termin | K1: ilość zawodników | L1: ilość osób towarzyszących
K2: 0 | L2: 0
A3: Dolnośląskie | B3: Dolnośląska Federacja Sportu | C3: kobieta | D3: 2008 | E3: golf | G3: golf | H3: Sobienie Szlacheckie | I3: 14 - 16 lipca 2026 roku | K3: 1 | L3: 1
A4: Kujawsko-Pomorskie | B4: Kujawsko-Pomorskie Stowarzyszenie Związków Sportowych | C4: mężczyzna | D4: 2009 | E4: hokej na trawie K | G4: hokej na trawie K | H4: Toruń | I4: 7 - 12 lipca 2026 roku | K4: 6 | L4: 2
A5: Lubelskie | B5: Lubelska Unia Sportu | D5: 2010 | E5: hokej na trawie M | G5: hokej na trawie M | H5: Toruń | I5: 7 - 12 lipca 2026 roku | K5: 11 | L5: 3
A6: Lubuskie | B6: Lubuska Federacja Sportu | D6: 2011 | E6: jeździectwo skoki | G6: jeździectwo skoki | H6: Pólko | I6: 7 - 8 lipca 2026 roku | K6: 17 | L6: 4
A7: Łódzkie | B7: Łódzka Federacja Sportu | D7: 2012 | E7: jeździectwo ujeżdżenie | G7: jeździectwo ujeżdżenie | H7: Pólko | I7: 11 - 12 lipca 2026 roku | K7: 26 | L7: 5
A8: Małopolskie | B8: Małopolski Związek Stowarzyszeń Kultury Fizycznej | D8: 2013 | E8: jeździectwo WKKW | G8: jeździectwo WKKW | H8: Strzegom | I8: 31 lipca - 2 sierpnia 2026 roku | K8: 33 | L8: 6
A9: Mazowieckie | B9: Mazowiecka Federacja Sportu | D9: 2014 | E9: kajakarstwo klasyczne | G9: kajakarstwo klasyczne | H9: Bydgoszcz | I9: 30 lipca - 2 sierpnia 2026 roku | K9: 41 | L9: 7
A10: Opolskie | B10: Opolska Federacja Sportu | D10: 2015 | E10: kajakarstwo slalomowe | G10: kajakarstwo slalomowe | H10: Nowy Sącz | I10: 14 - 16 sierpnia 2026 roku | K10: 51 | L10: 8
A11: Podkarpackie | B11: Podkarpacka Federacja Sportu | D11: 2016 | E11: kolarstwo BMX | G11: kolarstwo BMX | H11: Lublin | I11: 21 - 22 sierpnia 2026 roku | K11: 61 | L11: 9
A12: Podlaskie | B12: Podlaska Federacja Sportu | E12: kolarstwo MTB | G12: kolarstwo MTB | H12: Lublin | I12: 7 - 8 sierpnia 2026 roku | K12: 71 | L12: 10
A13: Pomorskie | B13: Pomorska Federacja Sportu | E13: kolarstwo szosowe | G13: kolarstwo szosowe | H13: Kraśnik / Urzędów | I13: 10 - 12 lipca 2026 roku | K13: 81 | L13: 11
A14: Śląskie | B14: Śląska Federacja Sportu | E14: kolarstwo torowe | G14: kolarstwo torowe | H14: Pruszków | I14: 28 - 31 lipca 2026 roku | K14: 91 | L14: 12
A15: Świętokrzyskie | B15: Świętokrzyskie Stowarzyszenie Sportowe | E15: koszykówka 3x3 K | G15: koszykówka 3x3 K | H15: Radzyń Podlaski | I15: 22 - 24 czerwca 2026 roku
A16: Warmińsko-Mazurskie | B16: Warmińsko-Mazurska Federacja Sportu | E16: koszykówka 3x3 M | G16: koszykówka 3x3 M | H16: Radzyń Podlaski | I16: 22 - 24 czerwca 2026 roku
A17: Wielkopolskie | B17: Wielkopolskie Stowarzyszenie Sportowe | E17: lekkoatletyka | G17: lekkoatletyka | H17: Lublin | I17: 1 - 4 lipca 2026 roku
A18: Zachodniopomorskie | B18: Zachodniopomorska Federacja Sportu | E18: łucznictwo | G18: łucznictwo | H18: Zamość | I18: 6 - 9 sierpnia 2026 roku
E19: pięciobój nowoczesny | G19: pięciobój nowoczesny | H19: Kraśnik | I19: 30 czerwca - 2 lipca 2026 roku
E20: piłka nożna K | G20: piłka nożna K | H20: Tomaszów Lubelski / Susiec | I20: 29 czerwca - 5 lipca 2026 roku
E21: piłka nożna M | G21: piłka nożna M | H21: Kraśnik / Stróża | I21: 28 czerwca - 4 lipca 2026 roku
E22: piłka ręczna plażowa K | G22: piłka ręczna plażowa K | H22: Zamość | I22: 19 - 21 czerwca 2026 roku
E23: piłka ręczna plażowa M | G23: piłka ręczna plażowa M | H23: Zamość | I23: 19 - 21 czerwca 2026 roku
E24: piłka wodna | G24: piłka wodna | H24: Lublin | I24: 26 - 28 czerwca 2026 roku
E25: pływanie | G25: pływanie | H25: Lublin | I25: 14 - 17 lipca 2026 roku
E26: pływanie artystyczne | G26: pływanie artystyczne | H26: Lublin | I26: 6 - 8 lipca 2026 roku
E27: podnoszenie ciężarów | G27: podnoszenie ciężarów | H27: Łuków | I27: 23 - 26 lipca 2026 roku
E28: rugby | G28: rugby | H28: Lublin | I28: 3 - 5 lipca 2026 roku
E29: siatkówka plażowa K | G29: siatkówka plażowa K | H29: Lublin | I29: 8 - 10 lipca 2026 roku
E30: siatkówka plażowa M | G30: siatkówka plażowa M | H30: Lublin | I30: 10 - 12 lipca 2026 roku
... E38: żeglarstwo (ILCA4) | G38: żeglarstwo (ILCA4) | H38: Dziwnów | I38: 24 - 28 sierpnia 2026 roku
